BEGIN:VCALENDAR
VERSION:2.0
PRODID:-//AAFBC - ECPv6.15.3//NONSGML v1.0//EN
CALSCALE:GREGORIAN
METHOD:PUBLISH
X-WR-CALNAME:AAFBC
X-ORIGINAL-URL:https://aafbc.org.br
X-WR-CALDESC:Eventos para AAFBC
REFRESH-INTERVAL;VALUE=DURATION:PT1H
X-Robots-Tag:noindex
X-PUBLISHED-TTL:PT1H
BEGIN:VTIMEZONE
TZID:America/Sao_Paulo
BEGIN:STANDARD
TZOFFSETFROM:-0300
TZOFFSETTO:-0300
TZNAME:-03
DTSTART:20250101T000000
END:STANDARD
END:VTIMEZONE
BEGIN:VEVENT
DTSTART;TZID=America/Sao_Paulo:20250311T140000
DTEND;TZID=America/Sao_Paulo:20250311T170000
DTSTAMP:20260424T121711
CREATED:20250227T170050Z
LAST-MODIFIED:20250227T181221Z
UID:410-1741701600-1741712400@aafbc.org.br
SUMMARY:Ressaca de Carnaval
DESCRIPTION:Teremos nossa Ressaca de Carnaval dia 11/03 com início as 14:00\, Com musica ao vivo e dançarinos.
URL:https://aafbc.org.br/event/ressaca-de-carnaval/
END:VEVENT
BEGIN:VEVENT
DTSTART;TZID=America/Sao_Paulo:20250318T140000
DTEND;TZID=America/Sao_Paulo:20250318T170000
DTSTAMP:20260424T121711
CREATED:20250227T171243Z
LAST-MODIFIED:20250227T171406Z
UID:418-1742306400-1742317200@aafbc.org.br
SUMMARY:Show com Fernanda Santanna
DESCRIPTION:Dia 18/03 teremos um Show com a cantora Fernanda Santanna.
URL:https://aafbc.org.br/event/show-com-fernanda-santanna/
END:VEVENT
BEGIN:VEVENT
DTSTART;TZID=America/Sao_Paulo:20250325T120000
DTEND;TZID=America/Sao_Paulo:20250325T150000
DTSTAMP:20260424T121711
CREATED:20250227T171752Z
LAST-MODIFIED:20250228T142029Z
UID:423-1742904000-1742914800@aafbc.org.br
SUMMARY:Almoço de Confraternização Mensal
DESCRIPTION:
URL:https://aafbc.org.br/event/almoco-de-confraternizacao-mensal-3/
END:VEVENT
END:VCALENDAR