BEGIN:VCALENDAR
VERSION:2.0
PRODID:-//AAFBC - ECPv6.15.3//NONSGML v1.0//EN
CALSCALE:GREGORIAN
METHOD:PUBLISH
X-ORIGINAL-URL:https://aafbc.org.br
X-WR-CALDESC:Eventos para AAFBC
REFRESH-INTERVAL;VALUE=DURATION:PT1H
X-Robots-Tag:noindex
X-PUBLISHED-TTL:PT1H
BEGIN:VTIMEZONE
TZID:America/Sao_Paulo
BEGIN:STANDARD
TZOFFSETFROM:-0300
TZOFFSETTO:-0300
TZNAME:-03
DTSTART:20250101T000000
END:STANDARD
END:VTIMEZONE
BEGIN:VEVENT
DTSTART;TZID=America/Sao_Paulo:20250603T140000
DTEND;TZID=America/Sao_Paulo:20250603T170000
DTSTAMP:20260424T070858
CREATED:20250603T141832Z
LAST-MODIFIED:20250603T141832Z
UID:467-1748959200-1748970000@aafbc.org.br
SUMMARY:Cantinho Musical
DESCRIPTION:
URL:https://aafbc.org.br/event/cantinho-musical-6/
LOCATION:AAFBC Salão\, teste\, Rio de Janeiro\, RJ\, Brazil
END:VEVENT
BEGIN:VEVENT
DTSTART;TZID=America/Sao_Paulo:20250610T140000
DTEND;TZID=America/Sao_Paulo:20250610T170000
DTSTAMP:20260424T070858
CREATED:20250603T142003Z
LAST-MODIFIED:20250603T142003Z
UID:469-1749564000-1749574800@aafbc.org.br
SUMMARY:Show com Fernanda Santanna
DESCRIPTION:
URL:https://aafbc.org.br/event/show-com-fernanda-santanna-3/
LOCATION:AAFBC Salão\, teste\, Rio de Janeiro\, RJ\, Brazil
END:VEVENT
BEGIN:VEVENT
DTSTART;TZID=America/Sao_Paulo:20250617T140000
DTEND;TZID=America/Sao_Paulo:20250617T170000
DTSTAMP:20260424T070858
CREATED:20250603T141622Z
LAST-MODIFIED:20250603T141751Z
UID:459-1750168800-1750179600@aafbc.org.br
SUMMARY:Festa Junina
DESCRIPTION:
URL:https://aafbc.org.br/event/show-com-fernanda-santanna-2/
LOCATION:AAFBC Salão\, teste\, Rio de Janeiro\, RJ\, Brazil
END:VEVENT
BEGIN:VEVENT
DTSTART;TZID=America/Sao_Paulo:20250618T080000
DTEND;TZID=America/Sao_Paulo:20250618T170000
DTSTAMP:20260424T070858
CREATED:20250618T164809Z
LAST-MODIFIED:20250618T164809Z
UID:472-1750233600-1750266000@aafbc.org.br
SUMMARY:Almoço de Confraternização Mensal
DESCRIPTION:
URL:https://aafbc.org.br/event/almoco-de-confraternizacao-mensal-6/
END:VEVENT
END:VCALENDAR