BEGIN:VCALENDAR
VERSION:2.0
PRODID:-//AAFBC - ECPv6.15.3//NONSGML v1.0//EN
CALSCALE:GREGORIAN
METHOD:PUBLISH
X-ORIGINAL-URL:https://aafbc.org.br
X-WR-CALDESC:Eventos para AAFBC
REFRESH-INTERVAL;VALUE=DURATION:PT1H
X-Robots-Tag:noindex
X-PUBLISHED-TTL:PT1H
BEGIN:VTIMEZONE
TZID:America/Sao_Paulo
BEGIN:STANDARD
TZOFFSETFROM:-0300
TZOFFSETTO:-0300
TZNAME:-03
DTSTART:20250101T000000
END:STANDARD
END:VTIMEZONE
BEGIN:VEVENT
DTSTART;TZID=America/Sao_Paulo:20250805T140000
DTEND;TZID=America/Sao_Paulo:20250805T170000
DTSTAMP:20260424T035548
CREATED:20250730T175021Z
LAST-MODIFIED:20250730T175021Z
UID:500-1754402400-1754413200@aafbc.org.br
SUMMARY:Cantinho Musical
DESCRIPTION:
URL:https://aafbc.org.br/event/cantinho-musical-9/
LOCATION:AAFBC Salão\, teste\, Rio de Janeiro\, RJ\, Brazil
END:VEVENT
BEGIN:VEVENT
DTSTART;TZID=America/Sao_Paulo:20250812T140000
DTEND;TZID=America/Sao_Paulo:20250812T170000
DTSTAMP:20260424T035548
CREATED:20250730T174647Z
LAST-MODIFIED:20250730T175500Z
UID:492-1755007200-1755018000@aafbc.org.br
SUMMARY:Comemoração do Dia dos Pais
DESCRIPTION:
URL:https://aafbc.org.br/event/cantinho-musical-8/
LOCATION:AAFBC Salão\, teste\, Rio de Janeiro\, RJ\, Brazil
END:VEVENT
BEGIN:VEVENT
DTSTART;TZID=America/Sao_Paulo:20250819T140000
DTEND;TZID=America/Sao_Paulo:20250819T170000
DTSTAMP:20260424T035548
CREATED:20250730T175115Z
LAST-MODIFIED:20250730T175115Z
UID:502-1755612000-1755622800@aafbc.org.br
SUMMARY:Música Boa com Guilherme e Victor
DESCRIPTION:
URL:https://aafbc.org.br/event/musica-boa-com-guilherme-e-victor/
LOCATION:AAFBC Salão\, teste\, Rio de Janeiro\, RJ\, Brazil
END:VEVENT
BEGIN:VEVENT
DTSTART;TZID=America/Sao_Paulo:20250826T120000
DTEND;TZID=America/Sao_Paulo:20250826T153000
DTSTAMP:20260424T035548
CREATED:20250730T175340Z
LAST-MODIFIED:20250730T175340Z
UID:504-1756209600-1756222200@aafbc.org.br
SUMMARY:Almoço de Confraternização Mensal
DESCRIPTION:
URL:https://aafbc.org.br/event/almoco-de-confraternizacao-mensal-8/
LOCATION:AAFBC Salão\, teste\, Rio de Janeiro\, RJ\, Brazil
END:VEVENT
END:VCALENDAR