BEGIN:VCALENDAR
VERSION:2.0
PRODID:-//AAFBC - ECPv6.15.3//NONSGML v1.0//EN
CALSCALE:GREGORIAN
METHOD:PUBLISH
X-ORIGINAL-URL:https://aafbc.org.br
X-WR-CALDESC:Eventos para AAFBC
REFRESH-INTERVAL;VALUE=DURATION:PT1H
X-Robots-Tag:noindex
X-PUBLISHED-TTL:PT1H
BEGIN:VTIMEZONE
TZID:America/Sao_Paulo
BEGIN:STANDARD
TZOFFSETFROM:-0300
TZOFFSETTO:-0300
TZNAME:-03
DTSTART:20250101T000000
END:STANDARD
END:VTIMEZONE
BEGIN:VEVENT
DTSTART;TZID=America/Sao_Paulo:20250902T140000
DTEND;TZID=America/Sao_Paulo:20250902T170000
DTSTAMP:20260424T021700
CREATED:20250925T170247Z
LAST-MODIFIED:20250925T170247Z
UID:526-1756821600-1756832400@aafbc.org.br
SUMMARY:Cantinho Musical
DESCRIPTION:
URL:https://aafbc.org.br/event/cantinho-musical-10/
END:VEVENT
BEGIN:VEVENT
DTSTART;TZID=America/Sao_Paulo:20250909T140000
DTEND;TZID=America/Sao_Paulo:20250909T170000
DTSTAMP:20260424T021700
CREATED:20250925T170547Z
LAST-MODIFIED:20250925T170547Z
UID:529-1757426400-1757437200@aafbc.org.br
SUMMARY:Palestra sobre Finanças
DESCRIPTION:
URL:https://aafbc.org.br/event/palestra-sobre-financas-3/
END:VEVENT
BEGIN:VEVENT
DTSTART;TZID=America/Sao_Paulo:20250916T140000
DTEND;TZID=America/Sao_Paulo:20250916T170000
DTSTAMP:20260424T021700
CREATED:20250925T164526Z
LAST-MODIFIED:20250925T164854Z
UID:515-1758031200-1758042000@aafbc.org.br
SUMMARY:Degustação de Drinks
DESCRIPTION:
URL:https://aafbc.org.br/event/palestra-sobre-financas/
END:VEVENT
BEGIN:VEVENT
DTSTART;TZID=America/Sao_Paulo:20250923T140000
DTEND;TZID=America/Sao_Paulo:20250923T170000
DTSTAMP:20260424T021700
CREATED:20250925T165045Z
LAST-MODIFIED:20250925T165123Z
UID:519-1758636000-1758646800@aafbc.org.br
SUMMARY:Chegada da Primavera
DESCRIPTION:
URL:https://aafbc.org.br/event/chegada-da-primavera/
END:VEVENT
BEGIN:VEVENT
DTSTART;TZID=America/Sao_Paulo:20250930T120000
DTEND;TZID=America/Sao_Paulo:20250930T160000
DTSTAMP:20260424T021700
CREATED:20250925T165219Z
LAST-MODIFIED:20250925T165439Z
UID:521-1759233600-1759248000@aafbc.org.br
SUMMARY:Almoço de Confraternização Mensal na ASBAC
DESCRIPTION:
URL:https://aafbc.org.br/event/palestra-sobre-financas-2/
END:VEVENT
END:VCALENDAR