BEGIN:VCALENDAR
VERSION:2.0
PRODID:-//AAFBC - ECPv6.15.3//NONSGML v1.0//EN
CALSCALE:GREGORIAN
METHOD:PUBLISH
X-ORIGINAL-URL:https://aafbc.org.br
X-WR-CALDESC:Eventos para AAFBC
REFRESH-INTERVAL;VALUE=DURATION:PT1H
X-Robots-Tag:noindex
X-PUBLISHED-TTL:PT1H
BEGIN:VTIMEZONE
TZID:America/Sao_Paulo
BEGIN:STANDARD
TZOFFSETFROM:-0300
TZOFFSETTO:-0300
TZNAME:-03
DTSTART:20250101T000000
END:STANDARD
END:VTIMEZONE
BEGIN:VEVENT
DTSTART;TZID=America/Sao_Paulo:20251202T140000
DTEND;TZID=America/Sao_Paulo:20251202T170000
DTSTAMP:20260423T214711
CREATED:20251127T145924Z
LAST-MODIFIED:20251127T145924Z
UID:594-1764684000-1764694800@aafbc.org.br
SUMMARY:Cantinho Musical
DESCRIPTION:
URL:https://aafbc.org.br/event/cantinho-musical-13/
END:VEVENT
BEGIN:VEVENT
DTSTART;TZID=America/Sao_Paulo:20251211T120000
DTEND;TZID=America/Sao_Paulo:20251211T170000
DTSTAMP:20260423T214711
CREATED:20251127T150111Z
LAST-MODIFIED:20251127T150111Z
UID:599-1765454400-1765472400@aafbc.org.br
SUMMARY:Natal - 2025
DESCRIPTION:
URL:https://aafbc.org.br/event/natal-2025/
END:VEVENT
END:VCALENDAR