BEGIN:VCALENDAR
VERSION:2.0
PRODID:-//AAFBC - ECPv6.15.3//NONSGML v1.0//EN
CALSCALE:GREGORIAN
METHOD:PUBLISH
X-WR-CALNAME:AAFBC
X-ORIGINAL-URL:https://aafbc.org.br
X-WR-CALDESC:Eventos para AAFBC
REFRESH-INTERVAL;VALUE=DURATION:PT1H
X-Robots-Tag:noindex
X-PUBLISHED-TTL:PT1H
BEGIN:VTIMEZONE
TZID:America/Sao_Paulo
BEGIN:STANDARD
TZOFFSETFROM:-0300
TZOFFSETTO:-0300
TZNAME:-03
DTSTART:20260101T000000
END:STANDARD
END:VTIMEZONE
BEGIN:VEVENT
DTSTART;TZID=America/Sao_Paulo:20260203T140000
DTEND;TZID=America/Sao_Paulo:20260203T170000
DTSTAMP:20260423T183521
CREATED:20260129T143851Z
LAST-MODIFIED:20260129T143851Z
UID:606-1770127200-1770138000@aafbc.org.br
SUMMARY:Cantinho Musical
DESCRIPTION:
URL:https://aafbc.org.br/event/cantinho-musical-14/
END:VEVENT
BEGIN:VEVENT
DTSTART;TZID=America/Sao_Paulo:20260210T140000
DTEND;TZID=America/Sao_Paulo:20260210T170000
DTSTAMP:20260423T183521
CREATED:20260129T143929Z
LAST-MODIFIED:20260129T143929Z
UID:611-1770732000-1770742800@aafbc.org.br
SUMMARY:Baile de Carnaval
DESCRIPTION:
URL:https://aafbc.org.br/event/baile-de-carnaval/
END:VEVENT
BEGIN:VEVENT
DTSTART;TZID=America/Sao_Paulo:20260224T120000
DTEND;TZID=America/Sao_Paulo:20260224T150000
DTSTAMP:20260423T183521
CREATED:20260129T144018Z
LAST-MODIFIED:20260129T144018Z
UID:613-1771934400-1771945200@aafbc.org.br
SUMMARY:Almoço de Confraternização Mensal
DESCRIPTION:
URL:https://aafbc.org.br/event/almoco-de-confraternizacao-mensal-9/
END:VEVENT
END:VCALENDAR