BEGIN:VCALENDAR
VERSION:2.0
PRODID:-//AAFBC - ECPv6.15.3//NONSGML v1.0//EN
CALSCALE:GREGORIAN
METHOD:PUBLISH
X-ORIGINAL-URL:https://aafbc.org.br
X-WR-CALDESC:Eventos para AAFBC
REFRESH-INTERVAL;VALUE=DURATION:PT1H
X-Robots-Tag:noindex
X-PUBLISHED-TTL:PT1H
BEGIN:VTIMEZONE
TZID:America/Sao_Paulo
BEGIN:STANDARD
TZOFFSETFROM:-0300
TZOFFSETTO:-0300
TZNAME:-03
DTSTART:20260101T000000
END:STANDARD
END:VTIMEZONE
BEGIN:VEVENT
DTSTART;TZID=America/Sao_Paulo:20260303T140000
DTEND;TZID=America/Sao_Paulo:20260303T170000
DTSTAMP:20260423T170105
CREATED:20260305T142127Z
LAST-MODIFIED:20260305T142127Z
UID:623-1772546400-1772557200@aafbc.org.br
SUMMARY:Cantinho Musical
DESCRIPTION:
URL:https://aafbc.org.br/event/cantinho-musical-15/
END:VEVENT
BEGIN:VEVENT
DTSTART;TZID=America/Sao_Paulo:20260310T140000
DTEND;TZID=America/Sao_Paulo:20260310T170000
DTSTAMP:20260423T170105
CREATED:20260305T142436Z
LAST-MODIFIED:20260305T142436Z
UID:627-1773151200-1773162000@aafbc.org.br
SUMMARY:Comemoração ao Dia Internacional da Mulher
DESCRIPTION:
URL:https://aafbc.org.br/event/comemoracao-ao-dia-internacional-da-mulher/
END:VEVENT
END:VCALENDAR